BEGIN:VCALENDAR
VERSION:2.0
PRODID:-//Liège Sport - ECPv6.15.20//NONSGML v1.0//EN
CALSCALE:GREGORIAN
METHOD:PUBLISH
X-WR-CALNAME:Liège Sport
X-ORIGINAL-URL:https://www.liegesport.be
X-WR-CALDESC:Évènements pour Liège Sport
REFRESH-INTERVAL;VALUE=DURATION:PT1H
X-Robots-Tag:noindex
X-PUBLISHED-TTL:PT1H
BEGIN:VTIMEZONE
TZID:Europe/Paris
BEGIN:DAYLIGHT
TZOFFSETFROM:+0100
TZOFFSETTO:+0200
TZNAME:CEST
DTSTART:20250330T010000
END:DAYLIGHT
BEGIN:STANDARD
TZOFFSETFROM:+0200
TZOFFSETTO:+0100
TZNAME:CET
DTSTART:20251026T010000
END:STANDARD
BEGIN:DAYLIGHT
TZOFFSETFROM:+0100
TZOFFSETTO:+0200
TZNAME:CEST
DTSTART:20260329T010000
END:DAYLIGHT
BEGIN:STANDARD
TZOFFSETFROM:+0200
TZOFFSETTO:+0100
TZNAME:CET
DTSTART:20261025T010000
END:STANDARD
BEGIN:DAYLIGHT
TZOFFSETFROM:+0100
TZOFFSETTO:+0200
TZNAME:CEST
DTSTART:20270328T010000
END:DAYLIGHT
BEGIN:STANDARD
TZOFFSETFROM:+0200
TZOFFSETTO:+0100
TZNAME:CET
DTSTART:20271031T010000
END:STANDARD
END:VTIMEZONE
BEGIN:VEVENT
DTSTART;TZID=Europe/Paris:20260706T090000
DTEND;TZID=Europe/Paris:20260710T160000
DTSTAMP:20260421T123056
CREATED:20260227T122356Z
LAST-MODIFIED:20260227T122537Z
UID:251232-1783328400-1783699200@www.liegesport.be
SUMMARY:Stage été – Multi-Activités
DESCRIPTION:Nos ateliers : \nDanse\nApprentissage du rythme\, d’une chorégraphie\, travail d’expression corporelle. Création chorégraphique et recherche musicale en fonction du thème choisi. \nThéâtre\nIl permet aux enfants de découvrir les incroyables possibilités de jeux et d’amusements que cet art génère.\nCréation du spectacle\, décors\, accessoire. \nMusique\ndiﬀérents rythmes.\nLes enfants ont l’occasion de découvrir toutes sortes d’instruments\, dont le djembé sur lequel ils travaillent \nBricolage\nEn partant d’un modèle et d’une technique adaptée à son niveau\, chaque enfant peut imaginer et créer son « œuvre » qu’il pourra reprendre à la maison. Si les plus grands le souhaitent\, ils peuvent également créer les décors du spectacle ! \nDécouverte\nCet atelier permet\, comme son nom l’indique\, de découvrir divers expressions artistiques et de bien-être. En passant par la psychomotricité\, les jeux de mots\, la peinture\, la pleine conscience\, chant…\, chaque stage saura apporter à votre enfant son petit plus à travers cet atelier. \nInfos pratiques :\n– De 9h à 16h\n– Une garderie\, gratuite\, est organisée le matin de 8h à 9h et le soir de 16h à 17h.\n– Afin d’étayer notre site internet et notre page facebook\, il est possible que quelques photos soient prises pendant les stages. Si vous ne désirez pas que votre enfant puisse y apparaître\, n’hésitez surtout pas à nous contacter.\nA prévoir :\n– Tenue permettant à votre enfant de bouger et de se salir (+ En fonction du temps : Chapeau\, crème solaire\, vêtement de pluie\, …).\n– Prévoir collations\, boissons (eau + …) et repas de midi\nTarif :\n105€ pour le premier enfant\n100€ pour le deuxième enfant*\n95€ pour le troisième enfant*\n*Vivants sous le même toit\nInscriptions :\nLes inscriptions se font soit par téléphone au 0497/70.70.10 ou soit par mail: stage@temps-danse.be\nMerci de nous transmettre : Date du stage + nom + prénom + date de naissance\nPaiement :\nNuméro de compte BE60 0018 5081 5570\nLe paiement se fera au plus vite dès la confirmation par l’asbl de l’inscription.\nSi l’enfant ne peut faire le stage\, voir notre ROI \nTRANCHE D’ÂGE\nDe 3\,5 à 12 ans
URL:https://www.liegesport.be/event/stage-ete-multi-activites/
LOCATION:Ecole Saint Joseph de Bois De Breux (Ecole du bas)\, Rue de Herve 653\, Grivegnée\, 4030
CATEGORIES:Stages sportifs
ATTACH;FMTTYPE=image/jpeg:https://www.liegesport.be/wp-content/uploads/2026/02/Ete-BdB.jpg
ORGANIZER;CN="Temps Danse asbl":MAILTO:info@temps-danse.be
END:VEVENT
END:VCALENDAR